BEGIN:VCALENDAR
VERSION:2.0
BEGIN:VEVENT
URL:https://coolyhotel.oztix.com.au/outlet/event/d43f2d71-ca3e-4d09-863e-c74ed088076d
DTSTART:20260611T083000Z
DTEND:20260611T083000Z
SUMMARY:Faulty Towers - The Dining Experience
DESCRIPTION:Event details: https://coolyhotel.oztix.com.au/outlet/event/d43f2d71-ca3e-4d09-863e-c74ed088076d
LOCATION:Coolangatta Hotel (Coolangatta, Gold Coast, QLD)
END:VEVENT
END:VCALENDAR