BEGIN:VCALENDAR
VERSION:2.0
BEGIN:VEVENT
URL:https://coolyhotel.oztix.com.au/outlet/event/6c7ede67-440e-4a13-b1a9-c31d623514b9
DTSTART:20260523T050000Z
DTEND:20260523T050000Z
SUMMARY:WARZONE 17
DESCRIPTION:Event details: https://coolyhotel.oztix.com.au/outlet/event/6c7ede67-440e-4a13-b1a9-c31d623514b9
LOCATION:Coolangatta Hotel (Coolangatta, Gold Coast, QLD)
END:VEVENT
END:VCALENDAR