BEGIN:VCALENDAR
VERSION:2.0
BEGIN:VEVENT
URL:https://coolyhotel.oztix.com.au/outlet/event/5174077d-9fd1-4b6a-8da1-49392382abf3
DTSTART:20260508T090000Z
DTEND:20260508T090000Z
SUMMARY:BAILE DO PK - AFTERPARTY GOLD COAST PRO
DESCRIPTION:Event details: https://coolyhotel.oztix.com.au/outlet/event/5174077d-9fd1-4b6a-8da1-49392382abf3
LOCATION:Coolangatta Hotel (Coolangatta, Gold Coast, QLD)
END:VEVENT
END:VCALENDAR