BEGIN:VCALENDAR
VERSION:2.0
BEGIN:VEVENT
URL:https://coolyhotel.oztix.com.au/outlet/event/1bdd844a-4297-41a4-8c5a-ffd72e348178
DTSTART:20260430T080000Z
DTEND:20260430T080000Z
SUMMARY:Aint That Swell Live - Artificial Intelligence
DESCRIPTION:Event details: https://coolyhotel.oztix.com.au/outlet/event/1bdd844a-4297-41a4-8c5a-ffd72e348178
LOCATION:Coolangatta Hotel (Coolangatta, Gold Coast, QLD)
END:VEVENT
END:VCALENDAR